
BEGIN:VCALENDAR
VERSION:2.0
PRODID:https://www.cinema-quadrat.de
CALSCALE:GREGORIAN
METHOD:PUBLISH
X-LIC-LOCATION:Europe/Berlin
X-PROLEPTIC-TZNAME:LMT
BEGIN:VEVENT
UID:kino-63800@cinema-quadrat.de
DTSTAMP:20260423T110239Z
DTSTART:20260423T173000Z
DTEND:20260423T193000Z
SUMMARY:Cinema Quadrat: Manche m?gen's falsch
DESCRIPTION:Regie: Stanislaw Mucha\n\nCast: Dokumentarfilm\n\nSpielzeit: 90
  Min.\n\nIn der s?dchinesischen Stadt Dafen entstehen t?glich unz?hlige Mei
 sterwerke neu\, denn tausende Maler kopieren die Ikonen der europ?ischen Ku
 nstgeschichte von Rembrandt bis Monet\, von van Gogh bis Gerhard Richter\; 
 sie und ihre Familien leben\, schlafen und tr?umen inmitten der Bilder. So 
 trocknen van Goghs \,\,Sonnenblumen" im Dutzend auf einem Balkon\, und auf 
 einem anderen h?ngen die fertigen Kopien nach Gem?lden von Gerhard Richter.
  Ein Richter f?r 30 Euro\, ein kleiner van Gogh f?r 45\, Monets Seerosen f?
 r 120\, Rembrandts Selbstportr?ts f?r 150 - nat?rlich ist auch das L?cheln 
 der Mona Lisa zu haben. J?hrlich verlassen ?ber 10 Millionen Bilder die Ate
 liers von Dafen - die Grossbestellungen gehen nach Europa und Amerika. Was 
 Superm?rkte und M?belh?user im Westen zum vielfachen Preis feilbieten\, ern
 ?hrt in dieser Stadt eine ganze Riege von Kunstmalern und ihren Familien. D
 ie Kopierarbeit gem?ss Nachfrage und Auftrag ist ein Beispiel f?r den globa
 lisierten Kunst-Kommerz. Doch wer sind die Menschen\, die diese kunstvollen
  Kopien erschaffen? Regisseur Stanislaw Mucha erz?hlt ihre Geschichte volle
 r Respekt und Humor.
END:VEVENT
END:VCALENDAR
