
BEGIN:VCALENDAR
VERSION:2.0
PRODID:https://www.cinema-quadrat.de
CALSCALE:GREGORIAN
METHOD:PUBLISH
X-LIC-LOCATION:Europe/Berlin
X-PROLEPTIC-TZNAME:LMT
BEGIN:VEVENT
UID:kino-63804@cinema-quadrat.de
DTSTAMP:20260423T110100Z
DTSTART:20260521T173000Z
DTEND:20260521T193000Z
SUMMARY:Cinema Quadrat: Drei Frauen - Ein Krieg
DESCRIPTION:Regie: Luzia Schmid\n\nCast: Dokumentarfilm\n\nSpielzeit: 106 M
 in.\n\nDrei Fotografinnen waren die ersten Frauen\, die im Zweiten Weltkrie
 g den Mut hatten\, direkt vom Frontgeschehen zu berichten und den Krieg der
  Alliierten gegen die Nationalsozialisten und ihre Verb?ndeten mit der Kame
 ra festzuhalten: Martha Gellhorn (1908-1998)\, Margaret Bourke-White (1904-
 1971) und Lee Miller (1907-1977). Alle drei Frauen hatten schon vor ihren E
 ins?tzen in Europa erfolgreich als Fotoreporterinnen und Journalistinnen f?
 r verschiedene Magazine gearbeitet. Luzia Schmid hat ihnen mit ihrem Dokume
 ntarfilm ganz bewusst ein Denkmal gesetzt und l?sst das Grauen des Krieges 
 ausschliesslich aus der Perspektive ihrer drei Protagonistinnen deutlich we
 rden. Die Regisseurin nutzt daf?r erhaltene Fotos\, Reportagen\, Briefe und
  Tagebucheintr?ge der drei ber?hmten Fotografinnen und bettet diese beeindr
 uckenden historischen Zeugnisse mit grosser Sorgfalt in offizielles Filmmat
 erial der Alliierten ein. Martha Gellhorn\, Margaret Bourke-White und Lee M
 iller kommen im Film auch selbst zu Wort\, erz?hlen von ihren bleibenden Ei
 ndr?cken aus einem v?llig zerst?rten Europa.
END:VEVENT
END:VCALENDAR
