
BEGIN:VCALENDAR
VERSION:2.0
PRODID:https://www.cinema-quadrat.de
CALSCALE:GREGORIAN
METHOD:PUBLISH
X-LIC-LOCATION:Europe/Berlin
X-PROLEPTIC-TZNAME:LMT
BEGIN:VEVENT
UID:kino-63808@cinema-quadrat.de
DTSTAMP:20260423T105653Z
DTSTART:20260618T173000Z
DTEND:20260618T193000Z
SUMMARY:Cinema Quadrat: The Mies van der Rohes - A Female Family Saga
DESCRIPTION:Regie: Sabine Gisiger\n\nCast: Dokumentarfilm mit Spielszenen m
 it Katharina Thalbach\n\nSpielzeit: 81 Min.\n\nLudwig Mies van der Rohe gil
 t als einer der wichtigsten Protagonisten modernen Bauens im 20. Jahrhunder
 t und wurde zu Lebzeiten f?r seine neuartigen Stahlstrukturen und grossfl?c
 higen Verglasungen ber?hmt. Der Film zeichnet aber nicht das Leben dieses A
 rchitekturstars nach\, sondern widmet sich seiner Frau Ada\, seinen drei T?
 chtern Georgia\, Marianne und Waltraut und seiner Partnerin Lilly Reich. Si
 e alle bleiben 1938 in Deutschland bzw. Europa zur?ck\, als der politisch n
 icht angepasste Ehemann\, Vater und Vorgesetzte Mies in die USA geht\, um s
 ich den zunehmenden Repressionen durch die Nationalsozialisten zu entziehen
 . Im Film spielt Katharina Thalbach die Tochter Georgia van der Rohe\, die 
 sich als T?nzerin und Schauspielerin einen Namen machte. Sie berichtet von 
 einem famili?ren Leben\, in dem sich alles um den in der ?ffentlichkeit ste
 henden Vater drehte. Die Regisseurin\, Sabine Gisiger\, gestaltet den Film 
 mit Hilfe von fiktiven Interviews\, die ausschliesslich auf authentischen A
 ussagen beruhen\, erg?nzt von privaten\, unver?ffentlichten Filmausschnitte
 n\, Bildern und Dokumenten.
END:VEVENT
END:VCALENDAR
