
BEGIN:VCALENDAR
VERSION:2.0
PRODID:https://www.cinema-quadrat.de
CALSCALE:GREGORIAN
METHOD:PUBLISH
X-LIC-LOCATION:Europe/Berlin
X-PROLEPTIC-TZNAME:LMT
BEGIN:VEVENT
UID:kino-63812@cinema-quadrat.de
DTSTAMP:20260423T110357Z
DTSTART:20260716T173000Z
DTEND:20260716T193000Z
SUMMARY:Cinema Quadrat: Dieser Film ist ein Geschenk
DESCRIPTION:Regie: Anja Salomonowitz\n\nCast: Dokumentarfilm\n\nSpielzeit: 
 72 Min.\n\nNach seiner ersten Karriere als klassischer T?nzer gr?ndete Dani
 el Spoerri (1930-2024) in Paris zusammen mit Yves Klein\, Jean Tinguely und
  anderen befreundeten K?nstlern und K?nstlerinnen 1960 die Gruppe der Nouve
 aux R?alistes und entwickelte sich zu einem pr?genden Vertreter der Objektk
 unst. Mit seinen \,\,Fallenbildern"\, in denen er die Spuren eines Mahls mi
 t Tellern\, Gl?sern und Essensresten mit der Tischplatte verklebte und senk
 recht an die Wand h?ngte\, wurde er ber?hmt. Daniel Spoerri sammelte dar?be
 r hinaus alle m?glichen Alltagsgegenst?nde und arrangierte sie in neuen Zus
 ammenh?ngen. Die Regisseurin Anja Salomonowitz folgt Spoerris Idee vom Dase
 in als einem st?ndigen Kreislauf und ber?hrt dabei auch Fragen zur j?dische
 n Identit?t. \,\,Eigentlich ist es ein Film ?ber einen Gedanken von Daniel 
 Spoerri: ein Film fast ohne Daniel Spoerri\, eigentlich wird er meistens vo
 n einem Kind nachgespielt - um nicht weniger zu sagen\, als dass alles imme
 r irgendwie weitergeht im Leben\, auch wenn man dazwischen mal stirbt."
END:VEVENT
END:VCALENDAR
