
BEGIN:VCALENDAR
VERSION:2.0
PRODID:https://www.cinema-quadrat.de
CALSCALE:GREGORIAN
METHOD:PUBLISH
X-LIC-LOCATION:Europe/Berlin
X-PROLEPTIC-TZNAME:LMT
BEGIN:VEVENT
UID:kino-65015@cinema-quadrat.de
DTSTAMP:20260421T233518Z
DTSTART:20260501T193000Z
DTEND:20260501T213000Z
SUMMARY:Cinema Quadrat: Cheyenne - This Must Be The Place
DESCRIPTION:Regie: Paolo Sorrentino\n\nCast: Sean Penn\, Frances McDormand\
 , Judd Hirsch\, Eve Hewson\, Harry Dean Stanton\, David Byrne\n\nSpielzeit:
  118 Min.\n\nDer einst erfolgreiche Rockstar Cheyenne erf?hrt\, dass sein V
 ater im Sterben liegt. Wegen Flugangst f?hrt er mit dem Schiff von Irland n
 ach New York - und kommt zu sp?t. 30 Jahre hatte er keinen Kontakt\, nun en
 tdeckt er\, dass der Vater Zeit seines Lebens den ehemaligen Auschwitz-Aufs
 eher Alois Lange gesucht hat\, der ihn\, den H?ftling\, damals gequ?lt hat.
  Cheyenne heftet sich an Langes Spuren.\n\nPopkultur\, NS-Verbrechen und da
 s komplizierte Seelenleben eines abgehalfterten Rockstars: \,\,Cheyenne ist
  eine Paraderolle f?r Sean Penn - ein Film voller wundervoller R?tsel und e
 ntr?ckter Bilder." (S?ddeutsche Zeitung"
END:VEVENT
END:VCALENDAR
