
BEGIN:VCALENDAR
VERSION:2.0
PRODID:https://www.cinema-quadrat.de
CALSCALE:GREGORIAN
METHOD:PUBLISH
X-LIC-LOCATION:Europe/Berlin
X-PROLEPTIC-TZNAME:LMT
BEGIN:VEVENT
UID:kino-65061@cinema-quadrat.de
DTSTAMP:20260421T233600Z
DTSTART:20260510T173000Z
DTEND:20260510T193000Z
SUMMARY:Cinema Quadrat: La Grande Bellezza &#8211\; Die grosse Sch?nheit
DESCRIPTION:Regie: Paolo Sorrentino\n\nCast: Toni Servillo\, Carlo Verdone\
 , Sabrina Ferilli\, Carlo Buccirosso\n\nSpielzeit: 147 Min.\n\nJep Gambarde
 lla\, Journalist\, ist seit gut vierzig Jahren Teil von Roms mond?ner High 
 Society. Vor Jahrzehnten ist ihm ein gefeierter Roman gelungen\, dem er nie
  ein Zweitwerk hat folgen lassen. Daf?r l?sst er alles um sich wirbeln wie 
 in einem magischen Kaleidoskop: Frauen\, Reichtum\, verschwenderische Abend
 essen in luxuri?sen Anz?gen. Aber Jep blickt zugleich hinter die Fassade di
 eses Nobellebens der Oberfl?chlichkeit. Das rauschende Fest seines 65. Gebu
 rtstages markiert den Anlass\, die fehlende Substanz anzuzweifeln\, den Sin
 n zu hinterfragen\, die eigene Verg?nglichkeit anzuerkennen. Und so zeigt d
 ieses hinreissende\, klarsichtige Gesellschaftsportr?t die pr?chtige Sch?nh
 eit des Luxus - und verdeutlicht zugleich die Exzesse der Dekadenz.\n\nEin 
 Film wie ein zauberhaftes Gedicht\, zudem eine Hommage an Fellinis LA DOLCE
  VITA - 2014 gab es daf?r den Oscar\, den Golden Globe und vierfach den Eur
 op?ischen Filmpreis.
END:VEVENT
END:VCALENDAR
