
BEGIN:VCALENDAR
VERSION:2.0
PRODID:https://www.cinema-quadrat.de
CALSCALE:GREGORIAN
METHOD:PUBLISH
X-LIC-LOCATION:Europe/Berlin
X-PROLEPTIC-TZNAME:LMT
BEGIN:VEVENT
UID:kino-65069@cinema-quadrat.de
DTSTAMP:20260421T233426Z
DTSTART:20260515T173000Z
DTEND:20260515T193000Z
SUMMARY:Cinema Quadrat: Ewige Jugend
DESCRIPTION:Regie: Paolo Sorrentino\n\nCast: Michael Caine\, Harvey Keitel\
 , Rachel Weisz\, Paul Dano\, Jane Fonda\n\nSpielzeit: 124 Min.\n\nDas Leben
  im eleganten Schweizer Sanatorium: Mick - Harvey Keitel - ist alt\, aber n
 och immer als Regisseur im Gesch?ft. Hofft er zumindest\, und versucht\, se
 ine langj?hrige Muse - Jane Fonda - f?r ein neues Projekt zu gewinnen. Fred
  - Michael Caine - ist alt\, und als Dirigent will er nicht mehr arbeiten\,
  auch nicht\, wenn die Queen pers?nlich darum bittet.\nUm diese beiden so g
 egens?tzlichen Freunde spinnt Paolo Sorrentino sein fabelhaftes Panorama de
 r Alten\, der Alternden und der ewig Jungen und wird seinem Ruf als grossar
 tigem Geschichtenerz?hler mehr als gerecht: Anekdoten\, Episoden\, kleine A
 per?us flicht er zu einer grossen\, leichten\, tiefen Mediation ?ber das Le
 ben zusammen\n\nDie \,\,visuelle Wundert?te verbl?fft durch ein F?llhorn fa
 moser Einf?lle\, geschliffener Dialoge sowie einem exzellenten Ensemble" (p
 rogrammkino.de) - und war mit vier Auszeichnungen grosser Gewinner des Euro
 p?ischen Filmpreises 2015.
END:VEVENT
END:VCALENDAR
