
BEGIN:VCALENDAR
VERSION:2.0
PRODID:https://www.cinema-quadrat.de
CALSCALE:GREGORIAN
METHOD:PUBLISH
X-LIC-LOCATION:Europe/Berlin
X-PROLEPTIC-TZNAME:LMT
BEGIN:VEVENT
UID:kino-65111@cinema-quadrat.de
DTSTAMP:20260421T234345Z
DTSTART:20260525T173000Z
DTEND:20260525T193000Z
SUMMARY:Cinema Quadrat: Parthenope
DESCRIPTION:Regie: Paolo Sorrentino\n\nCast: Celeste Dalla Porta\, Silvio O
 rlando\, Luisa Ranieri\, Peppe Lanzetta\, Gary Oldman\n\nSpielzeit: 137 Min
 .\n\nParthenope - Name einer Sirene in der griechischen Mythologie und Stad
 tg?ttin von Neapel. So heisst die Studentin\, deren Leben der Film verfolgt
 : Sie strahlt einen Zauber aus\, dem sich kein Mann entziehen kann - selbst
  ihr Bruder st?rzt sich\, besessen von ihrer Sch?nheit\, von einer Klippe. 
 Zugleich strebt sie als Anthropologin nach Wissen\, l?sst sich ihre Unabh?n
 gigkeit nicht nehmen.\n\nRund um die Trias Sch?nheit\, Jugend und Verg?ngli
 chkeit erschafft Sorrentino ein sonnendurchtr?nktes\, bildgewaltiges Denkma
 l an seine Geburtsstadt Neapel - ein m?rchenhaft-allegorischer Traum.
END:VEVENT
END:VCALENDAR
