
BEGIN:VCALENDAR
VERSION:2.0
PRODID:https://www.cinema-quadrat.de
CALSCALE:GREGORIAN
METHOD:PUBLISH
X-LIC-LOCATION:Europe/Berlin
X-PROLEPTIC-TZNAME:LMT
BEGIN:VEVENT
UID:kino-65139@cinema-quadrat.de
DTSTAMP:20260421T233442Z
DTSTART:20260531T173000Z
DTEND:20260531T193000Z
SUMMARY:Cinema Quadrat: La Grazia
DESCRIPTION:Regie: Paolo Sorrentino\n\nCast: Toni Servillo\, Anna Ferzetti\
 , Orlando Cinque\, Massimo Venturiello\n\nSpielzeit: 133 Min.\n\nMariano De
  Santis\, Pr?sident der italienischen Republik\, steht am Ende seiner Amtsz
 eit. Auf seinem Schreibtisch liegen zwei Gnadenersuche und ein - von seiner
  Tochter ausgearbeiteter - Gesetzentwurf zum Thema Sterbehilfe. Er z?gert s
 eine Entscheidungen hinaus - nicht\, um ihnen auszuweichen\, sondern um Mus
 se zu haben f?r seine Gedanken\, die in die Vergangenheit und in philosophi
 sche Gefilde um Recht\, Gerechtigkeit und Verantwortung schweifen.\n\n\,\,E
 in Staatspr?sident\, der Gangster-Rap h?rt und verurteilte M?rder im Gef?ng
 nis besucht\, kann nur eine Kinofigur sein. Paolo Sorrentino hat sie sich a
 usgedacht: LA GRAZIA ist einer seiner besten Filme." (FAZ)
END:VEVENT
END:VCALENDAR
